BEGIN:VCALENDAR
VERSION:2.0
PRODID:-//Plone.org//NONSGML plone.app.event//EN
X-WR-TIMEZONE:Europe/Zurich
BEGIN:VEVENT
SUMMARY:Präsentationen PA
DTSTART;VALUE=DATE:20220607
DTEND;VALUE=DATE:20220618
DTSTAMP;VALUE=DATE-TIME:20260421T110708Z
UID:040000008200E00074C5B7101A82E008000000005028B7449563D70100000000000000
 0010000000D7931388974F0D4D92408A9D720E4F47
CREATED;VALUE=DATE-TIME:20210701T072603Z
LAST-MODIFIED;VALUE=DATE-TIME:20210701T072911Z
URL:https://www.sek-pratteln.ch/events/oeffentlich/praesentationen-pa
END:VEVENT
END:VCALENDAR
