BEGIN:VCALENDAR
VERSION:2.0
PRODID:-//Plone.org//NONSGML plone.app.event//EN
X-WR-TIMEZONE:Europe/Zurich
BEGIN:VEVENT
SUMMARY:Präsentationen PA (Projektarbeiten)
DTSTART;VALUE=DATE:20230606
DTEND;VALUE=DATE:20230617
DTSTAMP;VALUE=DATE-TIME:20260421T111140Z
UID:040000008200E00074C5B7101A82E0080000000080BAE2081883D80100000000000000
 00100000009CF91B7CF514FB4597A75E74CE9940EB
CREATED;VALUE=DATE-TIME:20220627T163400Z
DESCRIPTION: \n
LAST-MODIFIED;VALUE=DATE-TIME:20220627T165959Z
URL:https://www.sek-pratteln.ch/events/oeffentlich/praesentationen-pa-proj
 ektarbeiten
END:VEVENT
END:VCALENDAR
