BEGIN:VCALENDAR
VERSION:2.0
PRODID:-//Plone.org//NONSGML plone.app.event//EN
X-WR-TIMEZONE:Europe/Zurich
BEGIN:VEVENT
SUMMARY:Präsentation PA 3E/P
DTSTART;VALUE=DATE:20210618
DTEND;VALUE=DATE:20210619
DTSTAMP;VALUE=DATE-TIME:20260421T110748Z
UID:040000008200E00074C5B7101A82E0080000000040738E262A4AD60100000000000000
 00100000009A86659591AA8541803BF0070AEAF4FB
CREATED;VALUE=DATE-TIME:20200706T062822Z
DESCRIPTION:None
LAST-MODIFIED;VALUE=DATE-TIME:20210615T080704Z
URL:https://www.sek-pratteln.ch/events/oeffentlich/praesentation-pa-3e-p
END:VEVENT
END:VCALENDAR
