BEGIN:VCALENDAR
VERSION:2.0
PRODID:-//Plone.org//NONSGML plone.app.event//EN
X-WR-TIMEZONE:Europe/Zurich
BEGIN:VEVENT
SUMMARY:Präsentation PA 3E/P
DTSTART;VALUE=DATE:20210611
DTEND;VALUE=DATE:20210612
DTSTAMP;VALUE=DATE-TIME:20260421T110940Z
UID:040000008200E00074C5B7101A82E00800000000A06B1EF3294AD60100000000000000
 00100000001A4F3C33E6ECA048BEE54BF25D0C60C0
CREATED;VALUE=DATE-TIME:20200706T062825Z
LAST-MODIFIED;VALUE=DATE-TIME:20200706T064403Z
URL:https://www.sek-pratteln.ch/events/oeffentlich/praesentation-pa-3e-p-1
END:VEVENT
END:VCALENDAR
