BEGIN:VCALENDAR
VERSION:2.0
PRODID:-//Plone.org//NONSGML plone.app.event//EN
X-WR-TIMEZONE:Europe/Zurich
BEGIN:VEVENT
SUMMARY:Präsentation PA 3A
DTSTART;VALUE=DATE:20210617
DTEND;VALUE=DATE:20210618
DTSTAMP;VALUE=DATE-TIME:20260421T110709Z
UID:040000008200E00074C5B7101A82E00800000000A07F19162A4AD60100000000000000
 0010000000542294DAB812F3429F306C4C455F5D62
CREATED;VALUE=DATE-TIME:20200706T062823Z
DESCRIPTION:None
LAST-MODIFIED;VALUE=DATE-TIME:20210615T080719Z
URL:https://www.sek-pratteln.ch/events/oeffentlich/praesentation-pa-3a
END:VEVENT
END:VCALENDAR
