BEGIN:VCALENDAR
VERSION:2.0
PRODID:-//Plone.org//NONSGML plone.app.event//EN
X-WR-TIMEZONE:Europe/Zurich
BEGIN:VEVENT
SUMMARY:Präsentation PA 3A
DTSTART;VALUE=DATE:20210610
DTEND;VALUE=DATE:20210611
DTSTAMP;VALUE=DATE-TIME:20260419T193139Z
UID:040000008200E00074C5B7101A82E00800000000F05A9BEB294AD60100000000000000
 0010000000959EE5F67DE1B14F85A9A30018225136
CREATED;VALUE=DATE-TIME:20200706T062826Z
LAST-MODIFIED;VALUE=DATE-TIME:20200706T064403Z
URL:https://www.sek-pratteln.ch/events/oeffentlich/praesentation-pa-3a-1
END:VEVENT
END:VCALENDAR
