BEGIN:VCALENDAR
VERSION:2.0
PRODID:-//Plone.org//NONSGML plone.app.event//EN
X-WR-TIMEZONE:Europe/Zurich
BEGIN:VEVENT
SUMMARY:Polizeiprävention 1. Klassen
DTSTART;VALUE=DATE:20250428
DTEND;VALUE=DATE:20250501
DTSTAMP;VALUE=DATE-TIME:20260421T110709Z
UID:040000008200E00074C5B7101A82E0080000000030B5419F40C2DA0100000000000000
 00100000002AB7D6EFFE1CD442A2FFC8288309F2AB
CREATED;VALUE=DATE-TIME:20240627T145100Z
LAST-MODIFIED;VALUE=DATE-TIME:20240627T145632Z
URL:https://www.sek-pratteln.ch/events/oeffentlich/polizeipraevention-1-kl
 assen
END:VEVENT
END:VCALENDAR
