BEGIN:VCALENDAR
VERSION:2.0
PRODID:-//Plone.org//NONSGML plone.app.event//EN
X-WR-TIMEZONE:Europe/Zurich
BEGIN:VEVENT
SUMMARY:PISA-Studie (3Pa/3Pb)
DTSTART;TZID=Europe/Zurich;VALUE=DATE-TIME:20240423T072500
DTEND;TZID=Europe/Zurich;VALUE=DATE-TIME:20240423T120000
DTSTAMP;VALUE=DATE-TIME:20260421T110247Z
UID:bc22c9c60e074278b10b7913e24ca0ff@82.220.37.140:8081
CREATED;VALUE=DATE-TIME:20240321T082806Z
LAST-MODIFIED;VALUE=DATE-TIME:20240409T130604Z
LOCATION:C01
URL:https://www.sek-pratteln.ch/events/oeffentlich/pisa-studie
END:VEVENT
BEGIN:VTIMEZONE
TZID:Europe/Zurich
X-LIC-LOCATION:Europe/Zurich
BEGIN:DAYLIGHT
DTSTART;VALUE=DATE-TIME:20240331T030000
TZNAME:CEST
TZOFFSETFROM:+0100
TZOFFSETTO:+0200
END:DAYLIGHT
END:VTIMEZONE
END:VCALENDAR
