BEGIN:VCALENDAR
VERSION:2.0
PRODID:-//Plone.org//NONSGML plone.app.event//EN
X-WR-TIMEZONE:Europe/Zurich
BEGIN:VEVENT
SUMMARY:PISA-Studie 2025
DTSTART;TZID=Europe/Zurich;VALUE=DATE-TIME:20250409T072500
DTEND;TZID=Europe/Zurich;VALUE=DATE-TIME:20250409T114500
DTSTAMP;VALUE=DATE-TIME:20260421T110530Z
UID:737e83f9e200476d904791d92aeeeadc@82.220.37.140:8081
CREATED;VALUE=DATE-TIME:20241210T162420Z
LAST-MODIFIED;VALUE=DATE-TIME:20241210T162433Z
LOCATION:C01 / Computerraum
URL:https://www.sek-pratteln.ch/events/oeffentlich/pisa-studie-2025
END:VEVENT
BEGIN:VTIMEZONE
TZID:Europe/Zurich
X-LIC-LOCATION:Europe/Zurich
BEGIN:DAYLIGHT
DTSTART;VALUE=DATE-TIME:20250330T030000
TZNAME:CEST
TZOFFSETFROM:+0100
TZOFFSETTO:+0200
END:DAYLIGHT
END:VTIMEZONE
END:VCALENDAR
