BEGIN:VCALENDAR
VERSION:2.0
PRODID:-//Plone.org//NONSGML plone.app.event//EN
X-WR-TIMEZONE:Europe/Zurich
BEGIN:VEVENT
SUMMARY:PISA-Studie (3Aa/3Ab/3Ac/3Kb)
DTSTART;TZID=Europe/Zurich;VALUE=DATE-TIME:20240503T072500
DTEND;TZID=Europe/Zurich;VALUE=DATE-TIME:20240503T120000
DTSTAMP;VALUE=DATE-TIME:20260420T152917Z
UID:46b8a1d8217443dea86973a94cd7da8d@82.220.37.140:8081
CREATED;VALUE=DATE-TIME:20240409T092841Z
LAST-MODIFIED;VALUE=DATE-TIME:20240627T145631Z
LOCATION:C01
URL:https://www.sek-pratteln.ch/events/oeffentlich/pisa-studie-2
END:VEVENT
BEGIN:VTIMEZONE
TZID:Europe/Zurich
X-LIC-LOCATION:Europe/Zurich
BEGIN:DAYLIGHT
DTSTART;VALUE=DATE-TIME:20240331T030000
TZNAME:CEST
TZOFFSETFROM:+0100
TZOFFSETTO:+0200
END:DAYLIGHT
END:VTIMEZONE
END:VCALENDAR
