BEGIN:VCALENDAR
VERSION:2.0
PRODID:-//Plone.org//NONSGML plone.app.event//EN
X-WR-TIMEZONE:Europe/Zurich
BEGIN:VEVENT
SUMMARY:Pfingstmontag - schulfrei
DTSTART;VALUE=DATE:20160516
DTEND;VALUE=DATE:20160517
DTSTAMP;VALUE=DATE-TIME:20260420T004327Z
UID:040000008200E00074C5B7101A82E008000000000018125C368FD00100000000000000
 00100000005AFBF9148480304F8E5899955F2F74A8
CREATED;VALUE=DATE-TIME:20150710T073752Z
DESCRIPTION:\n
LAST-MODIFIED;VALUE=DATE-TIME:20200706T064342Z
URL:https://www.sek-pratteln.ch/events/oeffentlich/pfingstmontag-schulfrei
END:VEVENT
END:VCALENDAR
