BEGIN:VCALENDAR
VERSION:2.0
PRODID:-//Plone.org//NONSGML plone.app.event//EN
X-WR-TIMEZONE:Europe/Zurich
BEGIN:VEVENT
SUMMARY:Pfingstmontag (frei)
DTSTART;VALUE=DATE:20180521
DTEND;VALUE=DATE:20180522
DTSTAMP;VALUE=DATE-TIME:20260421T110703Z
UID:040000008200E00074C5B7101A82E008000000004033126EEFE8D20100000000000000
 0010000000DC1B39C247CFFB458024C3CB02AE1339
CREATED;VALUE=DATE-TIME:20170623T094920Z
LAST-MODIFIED;VALUE=DATE-TIME:20200706T064350Z
URL:https://www.sek-pratteln.ch/events/oeffentlich/pfingstmontag-frei
END:VEVENT
END:VCALENDAR
