BEGIN:VCALENDAR
VERSION:2.0
PRODID:-//Plone.org//NONSGML plone.app.event//EN
X-WR-TIMEZONE:Europe/Zurich
BEGIN:VEVENT
SUMMARY:Pfingstmontag
DTSTART;VALUE=DATE:20250609
DTEND;VALUE=DATE:20250610
DTSTAMP;VALUE=DATE-TIME:20260421T110550Z
UID:040000008200E00074C5B7101A82E008000000005043A54731C2DA0100000000000000
 0010000000FD08231660D2B944842822D51D63D504
CREATED;VALUE=DATE-TIME:20240627T145128Z
LAST-MODIFIED;VALUE=DATE-TIME:20240627T145410Z
URL:https://www.sek-pratteln.ch/events/oeffentlich/pfingstmontag-1
END:VEVENT
END:VCALENDAR
