BEGIN:VCALENDAR
VERSION:2.0
PRODID:-//Plone.org//NONSGML plone.app.event//EN
X-WR-TIMEZONE:Europe/Zurich
BEGIN:VEVENT
SUMMARY:Pfingsten
DTSTART;VALUE=DATE:20240518
DTEND;VALUE=DATE:20240519
DTSTAMP;VALUE=DATE-TIME:20260421T110259Z
UID:040000008200E00074C5B7101A82E00800000000907642B851A4D90100000000000000
 0010000000A5458BA20CA4C540BB17E176C6F1546D
CREATED;VALUE=DATE-TIME:20230626T125536Z
LAST-MODIFIED;VALUE=DATE-TIME:20230626T130008Z
URL:https://www.sek-pratteln.ch/events/oeffentlich/pfingsten-3
END:VEVENT
END:VCALENDAR
