BEGIN:VCALENDAR
VERSION:2.0
PRODID:-//Plone.org//NONSGML plone.app.event//EN
X-WR-TIMEZONE:Europe/Zurich
BEGIN:VEVENT
SUMMARY:Pfingsten
DTSTART;VALUE=DATE:20230527
DTEND;VALUE=DATE:20230530
DTSTAMP;VALUE=DATE-TIME:20260421T110300Z
UID:040000008200E00074C5B7101A82E00800000000500B95823983D80100000000000000
 00100000005549B85FF5C00D468444D9B39DDA5950
CREATED;VALUE=DATE-TIME:20220627T163426Z
DESCRIPTION: \n
LAST-MODIFIED;VALUE=DATE-TIME:20220627T165913Z
URL:https://www.sek-pratteln.ch/events/oeffentlich/pfingsten-2
END:VEVENT
END:VCALENDAR
