BEGIN:VCALENDAR
VERSION:2.0
PRODID:-//Plone.org//NONSGML plone.app.event//EN
X-WR-TIMEZONE:Europe/Zurich
BEGIN:VEVENT
SUMMARY:Pfingsten
DTSTART;VALUE=DATE:20220606
DTEND;VALUE=DATE:20220607
DTSTAMP;VALUE=DATE-TIME:20260421T110258Z
UID:040000008200E00074C5B7101A82E00800000000500D95E0A463D70100000000000000
 0010000000A5748699C0EB2640B2AE182119C29A33
CREATED;VALUE=DATE-TIME:20210701T072628Z
LAST-MODIFIED;VALUE=DATE-TIME:20210701T072754Z
URL:https://www.sek-pratteln.ch/events/oeffentlich/pfingsten-1
END:VEVENT
END:VCALENDAR
