BEGIN:VCALENDAR
VERSION:2.0
PRODID:-//Plone.org//NONSGML plone.app.event//EN
X-WR-TIMEZONE:Europe/Zurich
BEGIN:VEVENT
SUMMARY:Essen\, Spiele\, Sound
DTSTART;TZID=Europe/Zurich;VALUE=DATE-TIME:20250618T180000
DTEND;TZID=Europe/Zurich;VALUE=DATE-TIME:20250618T190000
DTSTAMP;VALUE=DATE-TIME:20260420T144152Z
UID:040000008200E00074C5B7101A82E008000000000026287845C2DA0100000000000000
 0010000000E1DF820F16422C4B82F2F807D4152A34
CREATED;VALUE=DATE-TIME:20240627T145047Z
DESCRIPTION:None
LAST-MODIFIED;VALUE=DATE-TIME:20250512T053308Z
URL:https://www.sek-pratteln.ch/events/oeffentlich/open-air-konzert-18-00h
 -bei-schoenem-wetter
END:VEVENT
BEGIN:VTIMEZONE
TZID:Europe/Zurich
X-LIC-LOCATION:Europe/Zurich
BEGIN:DAYLIGHT
DTSTART;VALUE=DATE-TIME:20250330T030000
TZNAME:CEST
TZOFFSETFROM:+0100
TZOFFSETTO:+0200
END:DAYLIGHT
END:VTIMEZONE
END:VCALENDAR
