BEGIN:VCALENDAR
VERSION:2.0
PRODID:-//Plone.org//NONSGML plone.app.event//EN
X-WR-TIMEZONE:Europe/Zurich
BEGIN:VEVENT
SUMMARY:Online-Sprechstunde mit dem SPD (1Ac)
DTSTART;TZID=Europe/Zurich;VALUE=DATE-TIME:20241127T133000
DTEND;TZID=Europe/Zurich;VALUE=DATE-TIME:20241127T170000
DTSTAMP;VALUE=DATE-TIME:20260421T111006Z
UID:9db4397b7443477b8fa37199c729f1e1@82.220.37.140:8081
CREATED;VALUE=DATE-TIME:20240821T045353Z
LAST-MODIFIED;VALUE=DATE-TIME:20240821T045357Z
URL:https://www.sek-pratteln.ch/events/oeffentlich/online-sprechstunde-mit
 -dem-spd-1ac
END:VEVENT
BEGIN:VTIMEZONE
TZID:Europe/Zurich
X-LIC-LOCATION:Europe/Zurich
BEGIN:STANDARD
DTSTART;VALUE=DATE-TIME:20241027T020000
TZNAME:CET
TZOFFSETFROM:+0200
TZOFFSETTO:+0100
END:STANDARD
END:VTIMEZONE
END:VCALENDAR
