BEGIN:VCALENDAR
VERSION:2.0
PRODID:-//Plone.org//NONSGML plone.app.event//EN
X-WR-TIMEZONE:Europe/Zurich
BEGIN:VEVENT
SUMMARY:Online-Sprechstunde mit dem SPD (1Aa und 1Ab)
DTSTART;TZID=Europe/Zurich;VALUE=DATE-TIME:20241113T133000
DTEND;TZID=Europe/Zurich;VALUE=DATE-TIME:20241113T170000
DTSTAMP;VALUE=DATE-TIME:20260421T111140Z
UID:c785d3d9df7b4f2c827df8d7b0fd9f13@82.220.37.140:8081
CREATED;VALUE=DATE-TIME:20240821T045250Z
LAST-MODIFIED;VALUE=DATE-TIME:20240821T045254Z
URL:https://www.sek-pratteln.ch/events/oeffentlich/online-sprechstunde-mit
 -dem-spd-1aa-und-1ab
END:VEVENT
BEGIN:VTIMEZONE
TZID:Europe/Zurich
X-LIC-LOCATION:Europe/Zurich
BEGIN:STANDARD
DTSTART;VALUE=DATE-TIME:20241027T020000
TZNAME:CET
TZOFFSETFROM:+0200
TZOFFSETTO:+0100
END:STANDARD
END:VTIMEZONE
END:VCALENDAR
