BEGIN:VCALENDAR
VERSION:2.0
PRODID:-//Plone.org//NONSGML plone.app.event//EN
X-WR-TIMEZONE:Europe/Zurich
BEGIN:VEVENT
SUMMARY:Offene Werkstatt
DTSTART;VALUE=DATE:20250317
DTEND;VALUE=DATE:20250413
DTSTAMP;VALUE=DATE-TIME:20260420T162032Z
UID:040000008200E00074C5B7101A82E00800000000F0CDEDF43DC2DA0100000000000000
 00100000001A3424AEEE5B2F4A8F7E054FB55B254E
CREATED;VALUE=DATE-TIME:20240627T145102Z
DESCRIPTION:None
LAST-MODIFIED;VALUE=DATE-TIME:20250318T080004Z
URL:https://www.sek-pratteln.ch/events/oeffentlich/offene-werkstatt
END:VEVENT
END:VCALENDAR
