BEGIN:VCALENDAR
VERSION:2.0
PRODID:-//Plone.org//NONSGML plone.app.event//EN
X-WR-TIMEZONE:Europe/Zurich
BEGIN:VEVENT
SUMMARY:Offene Werkstatt
DTSTART;VALUE=DATE:20250224
DTEND;VALUE=DATE:20250301
DTSTAMP;VALUE=DATE-TIME:20260421T110609Z
UID:040000008200E00074C5B7101A82E0080000000010E8BBE23DC2DA0100000000000000
 0010000000D3BF86A59A0969409153AE6E10AF1385
CREATED;VALUE=DATE-TIME:20240627T145102Z
LAST-MODIFIED;VALUE=DATE-TIME:20240627T145633Z
URL:https://www.sek-pratteln.ch/events/oeffentlich/offene-werkstatt-1
END:VEVENT
END:VCALENDAR
