BEGIN:VCALENDAR
VERSION:2.0
PRODID:-//Plone.org//NONSGML plone.app.event//EN
X-WR-TIMEZONE:Europe/Zurich
BEGIN:VEVENT
SUMMARY:Notenschluss
DTSTART;VALUE=DATE:20230616
DTEND;VALUE=DATE:20230617
DTSTAMP;VALUE=DATE-TIME:20260421T110334Z
UID:040000008200E00074C5B7101A82E00800000000C06013893A83D80100000000000000
 0010000000CE2686BF5265724EBC3B2898BE802D4A
CREATED;VALUE=DATE-TIME:20220627T163428Z
DESCRIPTION: \n
LAST-MODIFIED;VALUE=DATE-TIME:20220627T165913Z
URL:https://www.sek-pratteln.ch/events/oeffentlich/notenschluss
END:VEVENT
END:VCALENDAR
