BEGIN:VCALENDAR
VERSION:2.0
PRODID:-//Plone.org//NONSGML plone.app.event//EN
X-WR-TIMEZONE:Europe/Zurich
BEGIN:VEVENT
SUMMARY:Notenschluss alle Klassen
DTSTART;VALUE=DATE:20180615
DTEND;VALUE=DATE:20180616
DTSTAMP;VALUE=DATE-TIME:20260421T110815Z
UID:3061bc7e8f9445f3b89f2d281826987a@5.35.252.84:8090
CREATED;VALUE=DATE-TIME:20170706T143013Z
LAST-MODIFIED;VALUE=DATE-TIME:20200706T064351Z
URL:https://www.sek-pratteln.ch/events/oeffentlich/notenschluss-alle-klass
 en
END:VEVENT
END:VCALENDAR
