BEGIN:VCALENDAR
VERSION:2.0
PRODID:-//Plone.org//NONSGML plone.app.event//EN
X-WR-TIMEZONE:Europe/Zurich
BEGIN:VEVENT
SUMMARY:Notenschluss 3. Kl. 12:00h
DTSTART;VALUE=DATE:20260105
DTEND;VALUE=DATE:20260106
DTSTAMP;VALUE=DATE-TIME:20260419T214114Z
UID:040000008200E00074C5B7101A82E0080000000020A8D19228D2DB0100000000000000
 001000000010F4E2CC6E6E574ABACA0040B62690BF
CREATED;VALUE=DATE-TIME:20250611T084848Z
LAST-MODIFIED;VALUE=DATE-TIME:20250611T085809Z
URL:https://www.sek-pratteln.ch/events/oeffentlich/notenschluss-3-kl-12-00
 h
END:VEVENT
END:VCALENDAR
