BEGIN:VCALENDAR
VERSION:2.0
PRODID:-//Plone.org//NONSGML plone.app.event//EN
X-WR-TIMEZONE:Europe/Zurich
BEGIN:VEVENT
SUMMARY:Notenschluss
DTSTART;VALUE=DATE:20240614
DTEND;VALUE=DATE:20240615
DTSTAMP;VALUE=DATE-TIME:20260419T151603Z
UID:040000008200E00074C5B7101A82E008000000009037758653A4D90100000000000000
 0010000000527A6F60968FE543935DCB7EFB253791
CREATED;VALUE=DATE-TIME:20230626T125535Z
LAST-MODIFIED;VALUE=DATE-TIME:20230626T130008Z
URL:https://www.sek-pratteln.ch/events/oeffentlich/notenschluss-1
END:VEVENT
END:VCALENDAR
