BEGIN:VCALENDAR
VERSION:2.0
PRODID:-//Plone.org//NONSGML plone.app.event//EN
X-WR-TIMEZONE:Europe/Zurich
BEGIN:VEVENT
SUMMARY:Notenkonvente (ab 15:35h) 
DTSTART;TZID=Europe/Zurich;VALUE=DATE-TIME:20260616T153500
DTEND;TZID=Europe/Zurich;VALUE=DATE-TIME:20260616T193000
DTSTAMP;VALUE=DATE-TIME:20260421T110748Z
UID:040000008200E00074C5B7101A82E008000000005050B9962DD2DB0100000000000000
 001000000074A17606FC66194E8DA0E1E585A0255F
CREATED;VALUE=DATE-TIME:20250611T084838Z
LAST-MODIFIED;VALUE=DATE-TIME:20250611T085916Z
LOCATION:kleine Aula Q / Bibliothek
URL:https://www.sek-pratteln.ch/events/oeffentlich/notenkonvente-ab-15-35h
END:VEVENT
BEGIN:VTIMEZONE
TZID:Europe/Zurich
X-LIC-LOCATION:Europe/Zurich
BEGIN:DAYLIGHT
DTSTART;VALUE=DATE-TIME:20260329T030000
TZNAME:CEST
TZOFFSETFROM:+0100
TZOFFSETTO:+0200
END:DAYLIGHT
END:VTIMEZONE
END:VCALENDAR
