BEGIN:VCALENDAR
VERSION:2.0
PRODID:-//Plone.org//NONSGML plone.app.event//EN
X-WR-TIMEZONE:Europe/Zurich
BEGIN:VEVENT
SUMMARY:Notenkonvente 3. Klassen
DTSTART;VALUE=DATE:20210105
DTEND;VALUE=DATE:20210106
DTSTAMP;VALUE=DATE-TIME:20260421T104957Z
UID:040000008200E00074C5B7101A82E00800000000C0FE4AF2184AD60100000000000000
 0010000000331F6BDF36121D4EAE02FFC64384CAFA
CREATED;VALUE=DATE-TIME:20200706T062846Z
LAST-MODIFIED;VALUE=DATE-TIME:20210104T091151Z
URL:https://www.sek-pratteln.ch/events/oeffentlich/notenkonvente-3-klassen
END:VEVENT
END:VCALENDAR
