BEGIN:VCALENDAR
VERSION:2.0
PRODID:-//Plone.org//NONSGML plone.app.event//EN
X-WR-TIMEZONE:Europe/Zurich
BEGIN:VEVENT
SUMMARY:Notenkonvente 3. Klassen
DTSTART;VALUE=DATE:20240109
DTEND;VALUE=DATE:20240110
DTSTAMP;VALUE=DATE-TIME:20260421T174921Z
UID:040000008200E00074C5B7101A82E00800000000D0CE693844A4D90100000000000000
 00100000003CBD5BE0B4EF7440BBAFC6F63E2BF579
CREATED;VALUE=DATE-TIME:20230626T125545Z
LAST-MODIFIED;VALUE=DATE-TIME:20230626T125922Z
URL:https://www.sek-pratteln.ch/events/oeffentlich/notenkonvente-3-klassen
 -3
END:VEVENT
END:VCALENDAR
