BEGIN:VCALENDAR
VERSION:2.0
PRODID:-//Plone.org//NONSGML plone.app.event//EN
X-WR-TIMEZONE:Europe/Zurich
BEGIN:VEVENT
SUMMARY:Notenkonvente 3. Klassen
DTSTART;TZID=Europe/Zurich;VALUE=DATE-TIME:20220111T153000
DTEND;TZID=Europe/Zurich;VALUE=DATE-TIME:20220111T180000
DTSTAMP;VALUE=DATE-TIME:20260421T110745Z
UID:040000008200E00074C5B7101A82E0080000000000DCEC0EA063D70100000000000000
 0010000000EC61767B28061E42B1738F5A12DDB625
CREATED;VALUE=DATE-TIME:20210701T072618Z
LAST-MODIFIED;VALUE=DATE-TIME:20210701T072815Z
URL:https://www.sek-pratteln.ch/events/oeffentlich/notenkonvente-3-klassen
 -1
END:VEVENT
BEGIN:VTIMEZONE
TZID:Europe/Zurich
X-LIC-LOCATION:Europe/Zurich
BEGIN:STANDARD
DTSTART;VALUE=DATE-TIME:20211031T020000
TZNAME:CET
TZOFFSETFROM:+0200
TZOFFSETTO:+0100
END:STANDARD
END:VTIMEZONE
END:VCALENDAR
