BEGIN:VCALENDAR
VERSION:2.0
PRODID:-//Plone.org//NONSGML plone.app.event//EN
X-WR-TIMEZONE:Europe/Zurich
BEGIN:VEVENT
SUMMARY:Notenkonvente 15:30-18:45h
DTSTART;TZID=Europe/Zurich;VALUE=DATE-TIME:20250617T153000
DTEND;TZID=Europe/Zurich;VALUE=DATE-TIME:20250617T190000
DTSTAMP;VALUE=DATE-TIME:20260420T004320Z
UID:040000008200E00074C5B7101A82E00800000000C034071B45C2DA0100000000000000
 00100000002DB23F322007DE4A94ED875B8E2E501C
CREATED;VALUE=DATE-TIME:20240627T145048Z
LAST-MODIFIED;VALUE=DATE-TIME:20240627T145631Z
LOCATION:grosse Aula-B\, kleine Aula Q\, Bibliothek
URL:https://www.sek-pratteln.ch/events/oeffentlich/notenkonvente-15-30-18-
 45h
END:VEVENT
BEGIN:VTIMEZONE
TZID:Europe/Zurich
X-LIC-LOCATION:Europe/Zurich
BEGIN:DAYLIGHT
DTSTART;VALUE=DATE-TIME:20250330T030000
TZNAME:CEST
TZOFFSETFROM:+0100
TZOFFSETTO:+0200
END:DAYLIGHT
END:VTIMEZONE
END:VCALENDAR
