BEGIN:VCALENDAR
VERSION:2.0
PRODID:-//Plone.org//NONSGML plone.app.event//EN
X-WR-TIMEZONE:Europe/Zurich
BEGIN:VEVENT
SUMMARY:Notenabschluss
DTSTART;VALUE=DATE:20151223
DTEND;VALUE=DATE:20151224
DTSTAMP;VALUE=DATE-TIME:20260419T152517Z
UID:040000008200E00074C5B7101A82E00800000000101823002B8FD00100000000000000
 00100000007BCE07A421892849B754ED635E3A3C8D
CREATED;VALUE=DATE-TIME:20150710T073747Z
DESCRIPTION:\n\n\n
LAST-MODIFIED;VALUE=DATE-TIME:20200706T064341Z
URL:https://www.sek-pratteln.ch/events/oeffentlich/notenabschluss
END:VEVENT
END:VCALENDAR
