BEGIN:VCALENDAR
VERSION:2.0
PRODID:-//Plone.org//NONSGML plone.app.event//EN
X-WR-TIMEZONE:Europe/Zurich
BEGIN:VEVENT
SUMMARY:Notenabschluss 2. Semester
DTSTART;VALUE=DATE:20250615
DTEND;VALUE=DATE:20250616
DTSTAMP;VALUE=DATE-TIME:20260421T110927Z
UID:78f70dacd48d4621ab4b623a6416ab95@82.220.37.140:8081
CREATED;VALUE=DATE-TIME:20240815T064518Z
LAST-MODIFIED;VALUE=DATE-TIME:20240815T064527Z
URL:https://www.sek-pratteln.ch/events/oeffentlich/notenabschluss-2-semest
 er
END:VEVENT
END:VCALENDAR
