BEGIN:VCALENDAR
VERSION:2.0
PRODID:-//Plone.org//NONSGML plone.app.event//EN
X-WR-TIMEZONE:Europe/Zurich
BEGIN:VEVENT
SUMMARY:Notenabschluss
DTSTART;VALUE=DATE:20160617
DTEND;VALUE=DATE:20160618
DTSTAMP;VALUE=DATE-TIME:20260421T110538Z
UID:040000008200E00074C5B7101A82E00800000000E07E6775358FD00100000000000000
 0010000000ADB3256730370B42BE8806B446B1D3BD
CREATED;VALUE=DATE-TIME:20150710T073751Z
DESCRIPTION:\n
LAST-MODIFIED;VALUE=DATE-TIME:20200706T064342Z
URL:https://www.sek-pratteln.ch/events/oeffentlich/notenabschluss-1
END:VEVENT
END:VCALENDAR
