BEGIN:VCALENDAR
VERSION:2.0
PRODID:-//Plone.org//NONSGML plone.app.event//EN
X-WR-TIMEZONE:Europe/Zurich
BEGIN:VEVENT
SUMMARY:Nachmittag: Hauptprobe Jahreskonzert
DTSTART;TZID=Europe/Zurich;VALUE=DATE-TIME:20260212T134500
DTEND;TZID=Europe/Zurich;VALUE=DATE-TIME:20260212T152000
DTSTAMP;VALUE=DATE-TIME:20260419T214114Z
UID:040000008200E00074C5B7101A82E00800000000602887C827D2DB0100000000000000
 00100000004355F7C9C512C140B3F40C942164A495
CREATED;VALUE=DATE-TIME:20250611T084849Z
DESCRIPTION:None
LAST-MODIFIED;VALUE=DATE-TIME:20251112T082528Z
URL:https://www.sek-pratteln.ch/events/oeffentlich/nm-hauptprobe-jahresabs
 chlusskonzert
END:VEVENT
BEGIN:VTIMEZONE
TZID:Europe/Zurich
X-LIC-LOCATION:Europe/Zurich
BEGIN:STANDARD
DTSTART;VALUE=DATE-TIME:20251026T020000
TZNAME:CET
TZOFFSETFROM:+0200
TZOFFSETTO:+0100
END:STANDARD
END:VTIMEZONE
END:VCALENDAR
