BEGIN:VCALENDAR
VERSION:2.0
PRODID:-//Plone.org//NONSGML plone.app.event//EN
X-WR-TIMEZONE:Europe/Zurich
BEGIN:VEVENT
SUMMARY:Nationaler Zukunftstag
DTSTART;VALUE=DATE:20161110
DTEND;VALUE=DATE:20161111
DTSTAMP;VALUE=DATE-TIME:20260421T110748Z
UID:040000008200E00074C5B7101A82E008000000003039785A40D8D10100000000000000
 001000000061039362EF3F96419070E34B53D3697E
CREATED;VALUE=DATE-TIME:20160712T121555Z
LAST-MODIFIED;VALUE=DATE-TIME:20200706T064347Z
URL:https://www.sek-pratteln.ch/events/oeffentlich/nationaler-zukunftstag
END:VEVENT
END:VCALENDAR
