BEGIN:VCALENDAR
VERSION:2.0
PRODID:-//Plone.org//NONSGML plone.app.event//EN
X-WR-TIMEZONE:Europe/Zurich
BEGIN:VEVENT
SUMMARY:Nationaler Zukunftstag
DTSTART;VALUE=DATE:20251113
DTEND;VALUE=DATE:20251114
DTSTAMP;VALUE=DATE-TIME:20260421T110939Z
UID:040000008200E00074C5B7101A82E00800000000C0D35B9D27D2DB0100000000000000
 001000000008594E25F57F3E4A971463BE395232A7
CREATED;VALUE=DATE-TIME:20250611T084849Z
LAST-MODIFIED;VALUE=DATE-TIME:20250611T085809Z
URL:https://www.sek-pratteln.ch/events/oeffentlich/nationaler-zukunftstag-
 6
END:VEVENT
END:VCALENDAR
