BEGIN:VCALENDAR
VERSION:2.0
PRODID:-//Plone.org//NONSGML plone.app.event//EN
X-WR-TIMEZONE:Europe/Zurich
BEGIN:VEVENT
SUMMARY:Nationaler Zukunftstag 
DTSTART;VALUE=DATE:20241114
DTEND;VALUE=DATE:20241115
DTSTAMP;VALUE=DATE-TIME:20260421T110940Z
UID:040000008200E00074C5B7101A82E0080000000050B911DA39C2DA0100000000000000
 00100000002363A6F477C0814A85D1CF952F841623
CREATED;VALUE=DATE-TIME:20240627T145112Z
LAST-MODIFIED;VALUE=DATE-TIME:20240627T145511Z
URL:https://www.sek-pratteln.ch/events/oeffentlich/nationaler-zukunftstag-
 5
END:VEVENT
END:VCALENDAR
