BEGIN:VCALENDAR
VERSION:2.0
PRODID:-//Plone.org//NONSGML plone.app.event//EN
X-WR-TIMEZONE:Europe/Zurich
BEGIN:VEVENT
SUMMARY:Nationaler Zukunftstag
DTSTART;VALUE=DATE:20231109
DTEND;VALUE=DATE:20231110
DTSTAMP;VALUE=DATE-TIME:20260421T110815Z
UID:040000008200E00074C5B7101A82E00800000000A0E9026C41A4D90100000000000000
 0010000000DFE9B491AC86784384D26C52D66EC253
CREATED;VALUE=DATE-TIME:20230626T125549Z
LAST-MODIFIED;VALUE=DATE-TIME:20230626T125923Z
URL:https://www.sek-pratteln.ch/events/oeffentlich/nationaler-zukunftstag-
 4
END:VEVENT
END:VCALENDAR
