BEGIN:VCALENDAR
VERSION:2.0
PRODID:-//Plone.org//NONSGML plone.app.event//EN
X-WR-TIMEZONE:Europe/Zurich
BEGIN:VEVENT
SUMMARY:Abgesagt: Nationaler Zukunftstag
DTSTART;VALUE=DATE:20201112
DTEND;VALUE=DATE:20201113
DTSTAMP;VALUE=DATE-TIME:20260421T110815Z
UID:040000008200E00074C5B7101A82E00800000000C075E2F1144AD60100000000000000
 0010000000C78FFA896565F04391AD268A7863F64A
CREATED;VALUE=DATE-TIME:20200706T062850Z
DESCRIPTION:None
LAST-MODIFIED;VALUE=DATE-TIME:20201030T111319Z
URL:https://www.sek-pratteln.ch/events/oeffentlich/nationaler-zukunftstag-
 3
END:VEVENT
END:VCALENDAR
