BEGIN:VCALENDAR
VERSION:2.0
PRODID:-//Plone.org//NONSGML plone.app.event//EN
X-WR-TIMEZONE:Europe/Zurich
BEGIN:VEVENT
SUMMARY:Nationaler Zukunftstag
DTSTART;VALUE=DATE:20191114
DTEND;VALUE=DATE:20191115
DTSTAMP;VALUE=DATE-TIME:20260421T110817Z
UID:040000008200E00074C5B7101A82E00800000000201229B8A231D50100000000000000
 00100000003329AAF9C3CC284AAC00692B6AE81991
CREATED;VALUE=DATE-TIME:20190708T101850Z
DESCRIPTION:\n\n
LAST-MODIFIED;VALUE=DATE-TIME:20200706T064359Z
URL:https://www.sek-pratteln.ch/events/oeffentlich/nationaler-zukunftstag-
 2
END:VEVENT
END:VCALENDAR
