BEGIN:VCALENDAR
VERSION:2.0
PRODID:-//Plone.org//NONSGML plone.app.event//EN
X-WR-TIMEZONE:Europe/Zurich
BEGIN:VEVENT
SUMMARY:Nationaler Zukunftstag
DTSTART;VALUE=DATE:20181108
DTEND;VALUE=DATE:20181109
DTSTAMP;VALUE=DATE-TIME:20260420T173239Z
UID:040000008200E00074C5B7101A82E00800000000402F85A4D407D40100000000000000
 0010000000B716B24A384C0A4E8DAD141C82E0A2B0
CREATED;VALUE=DATE-TIME:20180629T060558Z
DESCRIPTION:\n\n
LAST-MODIFIED;VALUE=DATE-TIME:20200706T064354Z
URL:https://www.sek-pratteln.ch/events/oeffentlich/nationaler-zukunftstag-
 1
END:VEVENT
END:VCALENDAR
