BEGIN:VCALENDAR
VERSION:2.0
PRODID:-//Plone.org//NONSGML plone.app.event//EN
X-WR-TIMEZONE:Europe/Zurich
BEGIN:VEVENT
SUMMARY:Nat. Zukunftstag
DTSTART;VALUE=DATE:20211111
DTEND;VALUE=DATE:20211112
DTSTAMP;VALUE=DATE-TIME:20260421T110702Z
UID:040000008200E00074C5B7101A82E00800000000001804DD9C63D70100000000000000
 0010000000BCC9C256F7DC334C8448EEC7F0BA38C2
CREATED;VALUE=DATE-TIME:20210701T072614Z
LAST-MODIFIED;VALUE=DATE-TIME:20210701T072841Z
URL:https://www.sek-pratteln.ch/events/oeffentlich/nat-zukunftstag
END:VEVENT
END:VCALENDAR
