BEGIN:VCALENDAR
VERSION:2.0
PRODID:-//Plone.org//NONSGML plone.app.event//EN
X-WR-TIMEZONE:Europe/Zurich
BEGIN:VEVENT
SUMMARY:Nat. Zukunftstag
DTSTART;VALUE=DATE:20221110
DTEND;VALUE=DATE:20221111
DTSTAMP;VALUE=DATE-TIME:20260421T110749Z
UID:040000008200E00074C5B7101A82E00800000000A08EE8342E83D80100000000000000
 0010000000704F2E1B8EB6364DA2AF828AF99FF066
CREATED;VALUE=DATE-TIME:20220627T163409Z
DESCRIPTION: \n
LAST-MODIFIED;VALUE=DATE-TIME:20220627T165940Z
URL:https://www.sek-pratteln.ch/events/oeffentlich/nat-zukunftstag-1
END:VEVENT
END:VCALENDAR
