BEGIN:VCALENDAR
VERSION:2.0
PRODID:-//Plone.org//NONSGML plone.app.event//EN
X-WR-TIMEZONE:Europe/Zurich
BEGIN:VEVENT
SUMMARY:Nachmittag: Hauptprobe Jahresschlusskonzert
DTSTART;TZID=Europe/Zurich;VALUE=DATE-TIME:20231220T133000
DTEND;TZID=Europe/Zurich;VALUE=DATE-TIME:20231220T170000
DTSTAMP;VALUE=DATE-TIME:20260419T182716Z
UID:040000008200E00074C5B7101A82E00800000000D03B0FA042A4D90100000000000000
 00100000001CCC2BB074785B4BBE885660E3AA2889
CREATED;VALUE=DATE-TIME:20230626T125547Z
LAST-MODIFIED;VALUE=DATE-TIME:20230626T125922Z
LOCATION:Aula B/Q
URL:https://www.sek-pratteln.ch/events/oeffentlich/nachmittag-hauptprobe-j
 ahresschlusskonzert
END:VEVENT
BEGIN:VTIMEZONE
TZID:Europe/Zurich
X-LIC-LOCATION:Europe/Zurich
BEGIN:STANDARD
DTSTART;VALUE=DATE-TIME:20231029T020000
TZNAME:CET
TZOFFSETFROM:+0200
TZOFFSETTO:+0100
END:STANDARD
END:VTIMEZONE
END:VCALENDAR
