BEGIN:VCALENDAR
VERSION:2.0
PRODID:-//Plone.org//NONSGML plone.app.event//EN
X-WR-TIMEZONE:Europe/Zurich
BEGIN:VEVENT
SUMMARY:Nachmittag: Hauptprobe Jahresabschlusskonzert
DTSTART;TZID=Europe/Zurich;VALUE=DATE-TIME:20241219T153000
DTEND;TZID=Europe/Zurich;VALUE=DATE-TIME:20241219T170000
DTSTAMP;VALUE=DATE-TIME:20260421T111200Z
UID:040000008200E00074C5B7101A82E00800000000A01D485C3BC2DA0100000000000000
 00100000000FB9E25338E78C44AA4C2C4513FDD25E
CREATED;VALUE=DATE-TIME:20240627T145108Z
DESCRIPTION:None
LAST-MODIFIED;VALUE=DATE-TIME:20241217T125206Z
LOCATION:Alte Dorfturnhalle
URL:https://www.sek-pratteln.ch/events/oeffentlich/nachmittag-hauptprobe-j
 ahresabschlusskonzert
END:VEVENT
BEGIN:VTIMEZONE
TZID:Europe/Zurich
X-LIC-LOCATION:Europe/Zurich
BEGIN:STANDARD
DTSTART;VALUE=DATE-TIME:20241027T020000
TZNAME:CET
TZOFFSETFROM:+0200
TZOFFSETTO:+0100
END:STANDARD
END:VTIMEZONE
END:VCALENDAR
