BEGIN:VCALENDAR
VERSION:2.0
PRODID:-//Plone.org//NONSGML plone.app.event//EN
X-WR-TIMEZONE:Europe/Zurich
BEGIN:VEVENT
SUMMARY:Nachmittag für SuS schulfrei
DTSTART;VALUE=DATE:20210629
DTEND;VALUE=DATE:20210630
DTSTAMP;VALUE=DATE-TIME:20260421T111309Z
UID:040000008200E00074C5B7101A82E00800000000B097691D4667D70100000000000000
 0010000000AE0C6EF283EC2A4E845667B00D872AC4
CREATED;VALUE=DATE-TIME:20210701T072632Z
LAST-MODIFIED;VALUE=DATE-TIME:20210701T072732Z
URL:https://www.sek-pratteln.ch/events/oeffentlich/nachmittag-fuer-sus-sch
 ulfrei-1
END:VEVENT
END:VCALENDAR
