BEGIN:VCALENDAR
VERSION:2.0
PRODID:-//Plone.org//NONSGML plone.app.event//EN
X-WR-TIMEZONE:Europe/Zurich
BEGIN:VEVENT
SUMMARY:Musical öffentliche Aufführung 19:00h
DTSTART;TZID=Europe/Zurich;VALUE=DATE-TIME:20250606T190000
DTEND;TZID=Europe/Zurich;VALUE=DATE-TIME:20250606T210000
DTSTAMP;VALUE=DATE-TIME:20260421T111217Z
UID:040000008200E00074C5B7101A82E0080000000020E1CB8C43C2DA0100000000000000
 001000000055EC09C7554D9D4899E0DC1F061CE425
CREATED;VALUE=DATE-TIME:20240627T145052Z
LAST-MODIFIED;VALUE=DATE-TIME:20240627T145632Z
URL:https://www.sek-pratteln.ch/events/oeffentlich/musical-oeffentliche-au
 ffuehrung-19-00h
END:VEVENT
BEGIN:VTIMEZONE
TZID:Europe/Zurich
X-LIC-LOCATION:Europe/Zurich
BEGIN:DAYLIGHT
DTSTART;VALUE=DATE-TIME:20250330T030000
TZNAME:CEST
TZOFFSETFROM:+0100
TZOFFSETTO:+0200
END:DAYLIGHT
END:VTIMEZONE
END:VCALENDAR
