BEGIN:VCALENDAR
VERSION:2.0
PRODID:-//Plone.org//NONSGML plone.app.event//EN
X-WR-TIMEZONE:Europe/Zurich
BEGIN:VEVENT
SUMMARY:Musical öffentliche Aufführung 19:00h
DTSTART;TZID=Europe/Zurich;VALUE=DATE-TIME:20250605T190000
DTEND;TZID=Europe/Zurich;VALUE=DATE-TIME:20250605T210000
DTSTAMP;VALUE=DATE-TIME:20260419T152052Z
UID:040000008200E00074C5B7101A82E00800000000D09DB77043C2DA0100000000000000
 0010000000810C4E57DA690B44B59F9D835A3418B2
CREATED;VALUE=DATE-TIME:20240627T145052Z
LAST-MODIFIED;VALUE=DATE-TIME:20240627T145632Z
URL:https://www.sek-pratteln.ch/events/oeffentlich/musical-oeffentliche-au
 ffuehrung-19-00h-1
END:VEVENT
BEGIN:VTIMEZONE
TZID:Europe/Zurich
X-LIC-LOCATION:Europe/Zurich
BEGIN:DAYLIGHT
DTSTART;VALUE=DATE-TIME:20250330T030000
TZNAME:CEST
TZOFFSETFROM:+0100
TZOFFSETTO:+0200
END:DAYLIGHT
END:VTIMEZONE
END:VCALENDAR
