BEGIN:VCALENDAR
VERSION:2.0
PRODID:-//Plone.org//NONSGML plone.app.event//EN
X-WR-TIMEZONE:Europe/Zurich
BEGIN:VEVENT
SUMMARY:Minivolleyballturnier (Vorrunde)
DTSTART;VALUE=DATE:20181121
DTEND;VALUE=DATE:20181122
DTSTAMP;VALUE=DATE-TIME:20260421T105116Z
UID:040000008200E00074C5B7101A82E008000000007083A2E9D407D40100000000000000
 00100000008C855E698078E448A9B26EE2095D8E1A
CREATED;VALUE=DATE-TIME:20180629T060557Z
DESCRIPTION:\n\n
LAST-MODIFIED;VALUE=DATE-TIME:20200706T064354Z
URL:https://www.sek-pratteln.ch/events/oeffentlich/minivolleyballturnier-v
 orrunde
END:VEVENT
END:VCALENDAR
