BEGIN:VCALENDAR
VERSION:2.0
PRODID:-//Plone.org//NONSGML plone.app.event//EN
X-WR-TIMEZONE:Europe/Zurich
BEGIN:VEVENT
SUMMARY:Minivolleyballturnier (Finalturnier)
DTSTART;VALUE=DATE:20181207
DTEND;VALUE=DATE:20181208
DTSTAMP;VALUE=DATE-TIME:20260421T105040Z
UID:040000008200E00074C5B7101A82E0080000000050915164D607D40100000000000000
 0010000000F2AB5FC2C884504B8E1457E75F1C53E6
CREATED;VALUE=DATE-TIME:20180629T060550Z
DESCRIPTION:\n\n
LAST-MODIFIED;VALUE=DATE-TIME:20200706T064354Z
URL:https://www.sek-pratteln.ch/events/oeffentlich/minivolleyballturnier-f
 inalturnier
END:VEVENT
END:VCALENDAR
